0.1
0
0
-0.1
565796.11129852
4714891.29318352
