0.1
0
0
-0.1
564952.156605316
4713726.71579021
