0.1
0
0
-0.1
564102.556792735
4713140.4604016
