0.1
0
0
-0.1
564107.915973742
4712562.14630507
