0.1
0
0
-0.1
564963.019435394
4712570.08614101
