0.1
0
0
-0.1
565818.122894069
4712578.02597698
