0.1
0
0
-0.1
567511.370218381
4714329.58153165
