0.1
0
0
-0.1
567522.661180081
4713172.9452752
