0.1
0
0
-0.1
639800.477198967
4775586.80258393
