0.1
0
0
-0.1
640659.91139012
4775025.84736966
