0.1
0
0
-0.1
604670.8767306
4688184.68332538
