0.1
0
0
-0.1
602963.098765537
4687580.96204488
