0.1
0
0
-0.1
602121.793046955
4686411.77055175
