0.1
0
0
-0.1
602988.683138267
4685846.09583372
