0.1
0
0
-0.1
565928.039151203
4701011.95674577
