0.1
0
0
-0.1
564220.318985215
4700417.79611273
