0.1
0
0
-0.1
561460.138365234
4721792.02139177
