0.1
0
0
-0.1
590539.907776144
4718641.95309943
