0.1
0
0
-0.1
592271.822129438
4716929.7430833
