0.1
0
0
-0.1
592279.541228644
4716351.42926482
