0.1
0
0
-0.1
593965.275504153
4718109.32168671
