0.1
0
0
-0.1
570806.126402547
4726508.75943593
