0.1
0
0
-0.1
569958.63177195
4725921.5789015
