0.1
0
0
-0.1
570818.03382221
4725352.08004911
