0.1
0
0
-0.1
573390.909027055
4724222.13950637
