0.1
0
0
-0.1
600521.378789922
4678290.76056786
