0.1
0
0
-0.1
600529.678549127
4677712.47687688
