0.1
0
0
-0.1
599678.483119518
4677121.99837522
