0.1
0
0
-0.1
603116.467109634
4677171.80836463
