0.1
0
0
-0.1
602273.849172902
4676002.63699985
