0.1
0
0
-0.1
603133.486848682
4676015.244844
