0.1
0
0
-0.1
595858.138629157
4704831.77138474
