0.1
0
0
-0.1
598450.972584551
4703132.8361817
