0.1
0
0
-0.1
597602.799548333
4702542.34584439
