0.1
0
0
-0.1
621104.813621817
4730102.04441549
