0.1
0
0
-0.1
621968.12110424
4729538.89642477
