0.1
0
0
-0.1
622821.258001736
4729554.07444561
