0.1
0
0
-0.1
621978.3605135
4728960.56886272
