0.1
0
0
-0.1
622831.567350291
4728975.74683441
