0.1
0
0
-0.1
607019.255309732
4646574.65563289
