0.1
0
0
-0.1
607027.972731718
4645996.38952957
