0.1
0
0
-0.1
580287.416200417
4718515.05727619
