0.1
0
0
-0.1
611180.826296849
4656471.78658507
