0.1
0
0
-0.1
609474.678272381
4655288.34675198
