0.1
0
0
-0.1
610336.862113468
4655301.80457197
