0.1
0
0
-0.1
612941.904442745
4654186.28211209
