0.1
0
0
-0.1
612097.933989771
4653015.88301906
