0.1
0
0
-0.1
626856.698809864
4695494.65762008
