0.1
0
0
-0.1
625162.804284005
4694306.92559867
