0.1
0
0
-0.1
599820.91964182
4726868.15360281
